BEGIN:VCALENDAR
VERSION:2.0
PRODID:-//ChamberMaster//Event Calendar 2.0//EN
METHOD:PUBLISH
X-PUBLISHED-TTL:P1H
REFRESH-INTERVAL:P1H
CALSCALE:GREGORIAN
BEGIN:VTIMEZONE
TZID:America/New_York
BEGIN:DAYLIGHT
RRULE:FREQ=YEARLY;BYMONTH=3;BYDAY=2SU
DTSTART:20070101T000000
TZOFFSETFROM:-0500
TZOFFSETTO:-0400
TZNAME:Eastern Daylight Time
END:DAYLIGHT
BEGIN:STANDARD
RRULE:FREQ=YEARLY;BYMONTH=11;BYDAY=1SU
DTSTART:20070101T000000
TZOFFSETFROM:-0400
TZOFFSETTO:-0500
TZNAME:Eastern Standard Time
END:STANDARD
END:VTIMEZONE
BEGIN:VEVENT
DTSTART;TZID=America/New_York:20260515T080000
DTEND;TZID=America/New_York:20260515T143000
X-MICROSOFT-CDO-ALLDAYEVENT:FALSE
SUMMARY:The J.T. Dorsey Foundation Annual Far From Par Golf Outing
DESCRIPTION:We are excited to welcome golfers and sponsors to our annual golf fundraising tournament! This is a fun outing where we enjoy a day playing golf in a scramble format\, participate in a silent auction and introduce current supporters and new businesses and community members to the mission and accomplishments of the JT Dorsey Foundation. Our goal for the 2026 golf outing is to raise $15\,000 to support our youth development programs! We know we can only build on the success of last year's event.
X-ALT-DESC;FMTTYPE=text/html:We are excited to welcome golfers and sponsors to our annual golf fundraising tournament! This is a fun outing where we enjoy a day playing golf in a scramble format\, participate in a silent auction and introduce current supporters and new businesses and community members to the mission and accomplishments of the JT Dorsey Foundation. Our goal for the 2026 golf outing is to raise $15\,000 to support our youth development programs! We know we can only build on the success of last year's event.
LOCATION:2601 Sunset Drive Middletown PA 17057
UID:e.3328.1445211
SEQUENCE:3
DTSTAMP:20260425T121255Z
URL:https://harrisburgregionalchambercredcpa.growthzoneapp.com/chambereventscalendar/Details/the-j-t-dorsey-foundation-annual-far-from-par-golf-outing-1711718?sourceTypeId=Hub
END:VEVENT
END:VCALENDAR
