BEGIN:VCALENDAR
VERSION:2.0
PRODID:-//ChamberMaster//Event Calendar 2.0//EN
METHOD:PUBLISH
X-PUBLISHED-TTL:P1H
REFRESH-INTERVAL:P1H
CALSCALE:GREGORIAN
BEGIN:VTIMEZONE
TZID:America/New_York
BEGIN:DAYLIGHT
RRULE:FREQ=YEARLY;BYMONTH=3;BYDAY=2SU
DTSTART:20070101T000000
TZOFFSETFROM:-0500
TZOFFSETTO:-0400
TZNAME:Eastern Daylight Time
END:DAYLIGHT
BEGIN:STANDARD
RRULE:FREQ=YEARLY;BYMONTH=11;BYDAY=1SU
DTSTART:20070101T000000
TZOFFSETFROM:-0400
TZOFFSETTO:-0500
TZNAME:Eastern Standard Time
END:STANDARD
END:VTIMEZONE
BEGIN:VEVENT
DTSTART;TZID=America/New_York:20260422T120000
DTEND;TZID=America/New_York:20260422T130000
X-MICROSOFT-CDO-ALLDAYEVENT:FALSE
SUMMARY:Keyword Research: Find Buyer-Intent Topics in 30 Minutes
DESCRIPTION:Keyword Research: Find Buyer-Intent Topics in 30 Minutes Discover high-value queries and build SEO outlines that rank and convert for local and e-commerce pages. Find and apply high-value keywords that match your customers' intent. Learn how to use keyword tools\, analyze competition\, and build content outlines that rank.
X-ALT-DESC;FMTTYPE=text/html:<!DOCTYPE html><html><head><title></title></head><body aria-disabled="false"><p><span style="color: rgb(0\, 0\, 0)\; font-family: Lato\, Arial\, Helvetica\, sans-serif\; font-size: 16px\; font-style: normal\; font-variant-ligatures: normal\; font-variant-caps: normal\; font-weight: 400\; letter-spacing: normal\; orphans: 2\; text-align: start\; text-indent: 0px\; text-transform: none\; widows: 2\; word-spacing: 0px\; -webkit-text-stroke-width: 0px\; white-space: normal\; text-decoration-thickness: initial\; text-decoration-style: initial\; text-decoration-color: initial\; display: inline !important\; float: none\;">&nbsp\;Keyword Research: Find Buyer-Intent Topics in 30 Minutes Discover high-value queries and build SEO outlines that rank and convert for local and e-commerce pages. Find and apply high-value keywords that match your customers&rsquo\; intent. Learn how to use keyword tools\, analyze competition\, and build content outlines that rank.</span> </p></body></html>
LOCATION:
UID:e.3328.1445586
SEQUENCE:3
DTSTAMP:20260425T121318Z
URL:https://harrisburgregionalchambercredcpa.growthzoneapp.com/chambereventscalendar/Details/keyword-research-find-buyer-intent-topics-in-30-minutes-1712202?sourceTypeId=Hub
END:VEVENT
END:VCALENDAR
