BEGIN:VCALENDAR
VERSION:2.0
PRODID:-//ChamberMaster//Event Calendar 2.0//EN
METHOD:PUBLISH
X-PUBLISHED-TTL:P1H
REFRESH-INTERVAL:P1H
CALSCALE:GREGORIAN
BEGIN:VTIMEZONE
TZID:America/New_York
BEGIN:DAYLIGHT
RRULE:FREQ=YEARLY;BYMONTH=3;BYDAY=2SU
DTSTART:20070101T000000
TZOFFSETFROM:-0500
TZOFFSETTO:-0400
TZNAME:Eastern Daylight Time
END:DAYLIGHT
BEGIN:STANDARD
RRULE:FREQ=YEARLY;BYMONTH=11;BYDAY=1SU
DTSTART:20070101T000000
TZOFFSETFROM:-0400
TZOFFSETTO:-0500
TZNAME:Eastern Standard Time
END:STANDARD
END:VTIMEZONE
BEGIN:VEVENT
DTSTART;TZID=America/New_York:20260429T180000
DTEND;TZID=America/New_York:20260429T210000
X-MICROSOFT-CDO-ALLDAYEVENT:FALSE
SUMMARY:Illuminate: Berks County\, 3rd Annual Networking Dinner
DESCRIPTION:Join the Kutztown University Small Business Development Center for Illuminate: Berks County\, our 3rd Annual networking dinner designed to bring together entrepreneurs\, small business owners\, and resource partners from across Berks County.This no-cost\, catered event offers a valuable opportunity to build meaningful connections\, expand your network\, and engage with others who are helping shape the local small business ecosystem. The evening will feature a keynote speaker\, structured networking\, free headshots\, and opportunities to connect directly with fellow business owners and support organizations serving the Berks County business community.Whether you are starting a business\, growing an existing one\, or looking to strengthen your local connections\, this event is designed to help you build relationships that support long-term success.Please bring business cards and be prepared to connect with entrepreneurs and resource partners from across Berks County.
X-ALT-DESC;FMTTYPE=text/html:<!DOCTYPE html><html><head><title></title></head><body aria-disabled="false"><p style="margin-top: 0px\; margin-bottom: 10px\; word-spacing: 0px\; line-height: 23.2px\; color: rgb(0\, 0\, 0)\; font-family: Lato\, Arial\, Helvetica\, sans-serif\; font-size: 16px\; font-style: normal\; font-variant-ligatures: normal\; font-variant-caps: normal\; font-weight: 400\; letter-spacing: normal\; orphans: 2\; text-align: start\; text-indent: 0px\; text-transform: none\; widows: 2\; -webkit-text-stroke-width: 0px\; white-space: normal\; text-decoration-thickness: initial\; text-decoration-style: initial\; text-decoration-color: initial\;">Join the Kutztown University Small Business Development Center for <strong fr-original-style="" style="font-weight: 700\;">Illuminate: Berks County</strong>\, our <strong fr-original-style="" style="font-weight: 700\;">3rd Annual networking dinner</strong> designed to bring together entrepreneurs\, small business owners\, and resource partners from across Berks County.</p><p style="margin-top: 0px\; margin-bottom: 10px\; word-spacing: 0px\; line-height: 23.2px\; color: rgb(0\, 0\, 0)\; font-family: Lato\, Arial\, Helvetica\, sans-serif\; font-size: 16px\; font-style: normal\; font-variant-ligatures: normal\; font-variant-caps: normal\; font-weight: 400\; letter-spacing: normal\; orphans: 2\; text-align: start\; text-indent: 0px\; text-transform: none\; widows: 2\; -webkit-text-stroke-width: 0px\; white-space: normal\; text-decoration-thickness: initial\; text-decoration-style: initial\; text-decoration-color: initial\;">This <strong fr-original-style="" style="font-weight: 700\;">no-cost\, catered event</strong> offers a valuable opportunity to build meaningful connections\, expand your network\, and engage with others who are helping shape the local small business ecosystem. The evening will feature a <strong fr-original-style="" style="font-weight: 700\;">keynote speaker</strong>\, <strong fr-original-style="" style="font-weight: 700\;">structured networking</strong>\,&nbsp\;<strong fr-original-style="" style="font-weight: 700\;">free headshots\,</strong> and opportunities to connect directly with fellow business owners and support organizations serving the Berks County business community.</p><p style="margin-top: 0px\; margin-bottom: 10px\; word-spacing: 0px\; line-height: 23.2px\; color: rgb(0\, 0\, 0)\; font-family: Lato\, Arial\, Helvetica\, sans-serif\; font-size: 16px\; font-style: normal\; font-variant-ligatures: normal\; font-variant-caps: normal\; font-weight: 400\; letter-spacing: normal\; orphans: 2\; text-align: start\; text-indent: 0px\; text-transform: none\; widows: 2\; -webkit-text-stroke-width: 0px\; white-space: normal\; text-decoration-thickness: initial\; text-decoration-style: initial\; text-decoration-color: initial\;">Whether you are starting a business\, growing an existing one\, or looking to strengthen your local connections\, this event is designed to help you build relationships that support long-term success.</p><p style="margin-top: 0px\; margin-bottom: 10px\; word-spacing: 0px\; line-height: 23.2px\; color: rgb(0\, 0\, 0)\; font-family: Lato\, Arial\, Helvetica\, sans-serif\; font-size: 16px\; font-style: normal\; font-variant-ligatures: normal\; font-variant-caps: normal\; font-weight: 400\; letter-spacing: normal\; orphans: 2\; text-align: start\; text-indent: 0px\; text-transform: none\; widows: 2\; -webkit-text-stroke-width: 0px\; white-space: normal\; text-decoration-thickness: initial\; text-decoration-style: initial\; text-decoration-color: initial\;"><strong fr-original-style="" style="font-weight: 700\;">Please bring business cards and be prepared to connect with entrepreneurs and resource partners from across Berks County.</strong></p></body></html>
LOCATION:
UID:e.3328.1445654
SEQUENCE:3
DTSTAMP:20260425T121258Z
URL:https://harrisburgregionalchambercredcpa.growthzoneapp.com/chambereventscalendar/Details/illuminate-berks-county-3rd-annual-networking-dinner-1712274?sourceTypeId=Hub
END:VEVENT
END:VCALENDAR
