BEGIN:VCALENDAR
VERSION:2.0
PRODID:-//ChamberMaster//Event Calendar 2.0//EN
METHOD:PUBLISH
X-PUBLISHED-TTL:P1H
REFRESH-INTERVAL:P1H
CALSCALE:GREGORIAN
BEGIN:VTIMEZONE
TZID:America/New_York
BEGIN:DAYLIGHT
RRULE:FREQ=YEARLY;BYMONTH=3;BYDAY=2SU
DTSTART:20070101T000000
TZOFFSETFROM:-0500
TZOFFSETTO:-0400
TZNAME:Eastern Daylight Time
END:DAYLIGHT
BEGIN:STANDARD
RRULE:FREQ=YEARLY;BYMONTH=11;BYDAY=1SU
DTSTART:20070101T000000
TZOFFSETFROM:-0400
TZOFFSETTO:-0500
TZNAME:Eastern Standard Time
END:STANDARD
END:VTIMEZONE
BEGIN:VEVENT
DTSTART;TZID=America/New_York:20260606T093000
DTEND;TZID=America/New_York:20260606T163000
X-MICROSOFT-CDO-ALLDAYEVENT:FALSE
SUMMARY:Harrisburg Hoopla 2026
DESCRIPTION:Harrisburg Hoopla is a full day of action where friends\, coworkers and neighbors team up to take on physical challenges\, puzzle games and activities you will not find anywhere else. Each team selects a local nonprofit to represent\, allowing them to win money that will be donated directly back to the community.\n\nIt is competition with a cause\, filled with energy\, laughter and connection. At the end of the day\, your fun creates real impact. A portion of proceeds also supports the Emerging Philanthropists Fund at TFEC\, which helps new leaders strengthen Central PA.\n\nLearn more at www.tfec.org/hbghoopla.
X-ALT-DESC;FMTTYPE=text/html:Harrisburg Hoopla is a full day of action where friends\, coworkers and neighbors team up to take on physical challenges\, puzzle games and activities you will not find anywhere else. Each team selects a local nonprofit to represent\, allowing them to win money that will be donated directly back to the community.\n\nIt is competition with a cause\, filled with energy\, laughter and connection. At the end of the day\, your fun creates real impact. A portion of proceeds also supports the Emerging Philanthropists Fund at TFEC\, which helps new leaders strengthen Central PA.\n\nLearn more at www.tfec.org/hbghoopla.
LOCATION:201 Championship Way Harrisburg PA 17101
UID:e.3328.1413773
SEQUENCE:3
DTSTAMP:20260425T121256Z
URL:https://harrisburgregionalchambercredcpa.growthzoneapp.com/chambereventscalendar/Details/harrisburg-hoopla-2026-1670678?sourceTypeId=Hub
END:VEVENT
END:VCALENDAR
