BEGIN:VCALENDAR
VERSION:2.0
PRODID:-//ChamberMaster//Event Calendar 2.0//EN
METHOD:PUBLISH
X-PUBLISHED-TTL:P1H
REFRESH-INTERVAL:P1H
CALSCALE:GREGORIAN
BEGIN:VTIMEZONE
TZID:America/New_York
BEGIN:DAYLIGHT
RRULE:FREQ=YEARLY;BYMONTH=3;BYDAY=2SU
DTSTART:20070101T000000
TZOFFSETFROM:-0500
TZOFFSETTO:-0400
TZNAME:Eastern Daylight Time
END:DAYLIGHT
BEGIN:STANDARD
RRULE:FREQ=YEARLY;BYMONTH=11;BYDAY=1SU
DTSTART:20070101T000000
TZOFFSETFROM:-0400
TZOFFSETTO:-0500
TZNAME:Eastern Standard Time
END:STANDARD
END:VTIMEZONE
BEGIN:VEVENT
DTSTART;TZID=America/New_York:20260528T140000
DTEND;TZID=America/New_York:20260528T150000
X-MICROSOFT-CDO-ALLDAYEVENT:FALSE
SUMMARY:Free Webinar: AI Without the Hype: A Practical Framework for Governed\, Real-World Adoption
DESCRIPTION:Everyone is talking about AI. Fewer people are actually integrating it well. In this session\, Adam Marsh strips away the vendor promises and conference buzzwords to address what organizations actually face: AI is already inside your business\, moving without governance\, while your most experienced people are walking out the door with knowledge no one has captured. Drawing from real deployments across regulated and high-stakes industries\, Adam delivers a straight-talking\, stage-by-stage framework for adopting AI with structure. You'll leave with a clear starting point and a 90-day move you can make the moment you're back at your desk.Attendees of this McKonly & Asbury Webinar will gain insight on the following:Establishing an AI policy and guardrailsEliminating the work that drains your best peopleBuilding the kind of institutional intelligence that compounds over timeThis free\, one-hour webinar will take place on Thursday\, May 28 at 2:00 p.m. EDT. One "Information Technology" CPE credit is available for this webinar. The level for this webinar is basic\, and no prerequisites are required. This program is a live webinar which offers the opportunity to ask questions and interact with the presenters.
X-ALT-DESC;FMTTYPE=text/html:<!DOCTYPE html><html><head><title></title></head><body aria-disabled="false"><p style='box-sizing: border-box\; margin-bottom: 1rem\; margin-top: 0px\; color: rgb(108\, 117\, 125)\; font-family: proxima-nova\, system-ui\, -apple-system\, "Segoe UI"\, Roboto\, "Helvetica Neue"\, "Noto Sans"\, "Liberation Sans"\, Arial\, sans-serif\, "Apple Color Emoji"\, "Segoe UI Emoji"\, "Segoe UI Symbol"\, "Noto Color Emoji"\; font-size: 18px\; font-style: normal\; font-variant-ligatures: normal\; font-variant-caps: normal\; font-weight: 400\; letter-spacing: normal\; orphans: 2\; text-align: start\; text-indent: 0px\; text-transform: none\; widows: 2\; word-spacing: 0px\; -webkit-text-stroke-width: 0px\; white-space: normal\; background-color: rgb(255\, 255\, 255)\; text-decoration-thickness: initial\; text-decoration-style: initial\; text-decoration-color: initial\;'>Everyone is talking about&nbsp\;<a fr-original-style="box-sizing: border-box\; color: rgb(56\, 63\, 85)\; text-decoration: underline\;" href="https://macpas.com/events/manufacturing-webinar-2024/" style="box-sizing: border-box\; color: rgb(56\, 63\, 85)\; text-decoration: underline\; user-select: auto\;">AI</a>. Fewer people are actually integrating it well. In this session\,&nbsp\;<a fr-original-style="box-sizing: border-box\; color: rgb(56\, 63\, 85)\; text-decoration: underline\;" href="https://ledgeinc.com/speaking-media/" rel="noopener" style="box-sizing: border-box\; color: rgb(56\, 63\, 85)\; text-decoration: underline\; user-select: auto\;" target="_blank">Adam Marsh</a> strips away the vendor promises and conference buzzwords to address what organizations actually face: AI is already inside your business\, moving without&nbsp\;<a fr-original-style="box-sizing: border-box\; color: rgb(56\, 63\, 85)\; text-decoration: underline\;" href="https://macpas.com/why-ai-risk-governance-is-important-to-your-organization/" style="box-sizing: border-box\; color: rgb(56\, 63\, 85)\; text-decoration: underline\; user-select: auto\;">governance</a>\, while your most experienced people are walking out the door with knowledge no one has captured. Drawing from real deployments across regulated and high-stakes industries\, Adam delivers a straight-talking\, stage-by-stage framework for adopting AI with structure. You&rsquo\;ll leave with a clear starting point and a 90-day move you can make the moment you&rsquo\;re back at your desk.</p><p style='box-sizing: border-box\; margin-bottom: 1rem\; margin-top: 0px\; color: rgb(108\, 117\, 125)\; font-family: proxima-nova\, system-ui\, -apple-system\, "Segoe UI"\, Roboto\, "Helvetica Neue"\, "Noto Sans"\, "Liberation Sans"\, Arial\, sans-serif\, "Apple Color Emoji"\, "Segoe UI Emoji"\, "Segoe UI Symbol"\, "Noto Color Emoji"\; font-size: 18px\; font-style: normal\; font-variant-ligatures: normal\; font-variant-caps: normal\; font-weight: 400\; letter-spacing: normal\; orphans: 2\; text-align: start\; text-indent: 0px\; text-transform: none\; widows: 2\; word-spacing: 0px\; -webkit-text-stroke-width: 0px\; white-space: normal\; background-color: rgb(255\, 255\, 255)\; text-decoration-thickness: initial\; text-decoration-style: initial\; text-decoration-color: initial\;'><strong fr-original-style="box-sizing: border-box\; font-weight: bolder\;" style="box-sizing: border-box\; font-weight: bolder\;">Attendees of this McKonly &amp\; Asbury Webinar will gain insight on the following:</strong></p><ul fr-original-style='box-sizing: border-box\; padding-left: 2rem\; margin-bottom: 1rem\; margin-top: 0px\; color: rgb(108\, 117\, 125)\; font-family: proxima-nova\, system-ui\, -apple-system\, "Segoe UI"\, Roboto\, "Helvetica Neue"\, "Noto Sans"\, "Liberation Sans"\, Arial\, sans-serif\, "Apple Color Emoji"\, "Segoe UI Emoji"\, "Segoe UI Symbol"\, "Noto Color Emoji"\; font-size: 18px\; font-style: normal\; font-variant-ligatures: normal\; font-variant-caps: normal\; font-weight: 400\; letter-spacing: normal\; orphans: 2\; text-align: start\; text-indent: 0px\; text-transform: none\; widows: 2\; word-spacing: 0px\; -webkit-text-stroke-width: 0px\; white-space: normal\; background-color: rgb(255\, 255\, 255)\; text-decoration-thickness: initial\; text-decoration-style: initial\; text-decoration-color: initial\;' style='box-sizing: border-box\; padding-left: 2rem\; margin-bottom: 1rem\; margin-top: 0px\; color: rgb(108\, 117\, 125)\; font-family: proxima-nova\, system-ui\, -apple-system\, "Segoe UI"\, Roboto\, "Helvetica Neue"\, "Noto Sans"\, "Liberation Sans"\, Arial\, sans-serif\, "Apple Color Emoji"\, "Segoe UI Emoji"\, "Segoe UI Symbol"\, "Noto Color Emoji"\; font-size: 18px\; font-style: normal\; font-variant-ligatures: normal\; font-variant-caps: normal\; font-weight: 400\; letter-spacing: normal\; orphans: 2\; text-align: start\; text-indent: 0px\; text-transform: none\; widows: 2\; word-spacing: 0px\; -webkit-text-stroke-width: 0px\; white-space: normal\; background-color: rgb(255\, 255\, 255)\; text-decoration-thickness: initial\; text-decoration-style: initial\; text-decoration-color: initial\; list-style-position: inside\;'><li style="box-sizing: border-box\;">Establishing an AI policy and guardrails</li><li style="box-sizing: border-box\;">Eliminating the work that drains your best people</li><li style="box-sizing: border-box\;">Building the kind of institutional intelligence that compounds over time</li></ul><div style='box-sizing: border-box\; color: rgb(108\, 117\, 125)\; font-family: proxima-nova\, system-ui\, -apple-system\, "Segoe UI"\, Roboto\, "Helvetica Neue"\, "Noto Sans"\, "Liberation Sans"\, Arial\, sans-serif\, "Apple Color Emoji"\, "Segoe UI Emoji"\, "Segoe UI Symbol"\, "Noto Color Emoji"\; font-size: 18px\; font-style: normal\; font-variant-ligatures: normal\; font-variant-caps: normal\; font-weight: 400\; letter-spacing: normal\; orphans: 2\; text-align: start\; text-indent: 0px\; text-transform: none\; widows: 2\; word-spacing: 0px\; -webkit-text-stroke-width: 0px\; white-space: normal\; background-color: rgb(255\, 255\, 255)\; text-decoration-thickness: initial\; text-decoration-style: initial\; text-decoration-color: initial\;'><div style="box-sizing: border-box\;"><p style="box-sizing: border-box\; margin-bottom: 1rem\; margin-top: 0px\;">This free\, one-hour webinar will take place on <strong fr-original-style="box-sizing: border-box\; font-weight: bolder\;" style="box-sizing: border-box\; font-weight: bolder\;">Thursday\, May 28 at 2:00 p.m. EDT</strong>. One &ldquo\;Information Technology&rdquo\; CPE credit is available for this webinar. The level for this webinar is basic\, and no prerequisites are required. This program is a live webinar which offers the opportunity to ask questions and interact with the presenters.</p></div></div></body></html>
LOCATION:
UID:e.3328.1450029
SEQUENCE:3
DTSTAMP:20260425T121257Z
URL:https://harrisburgregionalchambercredcpa.growthzoneapp.com/chambereventscalendar/Details/free-webinar-ai-without-the-hype-a-practical-framework-for-governed-real-world-adoption-1717613?sourceTypeId=Hub
END:VEVENT
END:VCALENDAR
