BEGIN:VCALENDAR
VERSION:2.0
PRODID:-//ChamberMaster//Event Calendar 2.0//EN
METHOD:PUBLISH
X-PUBLISHED-TTL:P1H
REFRESH-INTERVAL:P1H
CALSCALE:GREGORIAN
BEGIN:VTIMEZONE
TZID:America/New_York
BEGIN:DAYLIGHT
RRULE:FREQ=YEARLY;BYMONTH=3;BYDAY=2SU
DTSTART:20070101T000000
TZOFFSETFROM:-0500
TZOFFSETTO:-0400
TZNAME:Eastern Daylight Time
END:DAYLIGHT
BEGIN:STANDARD
RRULE:FREQ=YEARLY;BYMONTH=11;BYDAY=1SU
DTSTART:20070101T000000
TZOFFSETFROM:-0400
TZOFFSETTO:-0500
TZNAME:Eastern Standard Time
END:STANDARD
END:VTIMEZONE
BEGIN:VEVENT
DTSTART;VALUE=DATE:20260418
DTEND;VALUE=DATE:20260419
TRANSP:TRANSPARENT
X-MICROSOFT-CDO-ALLDAYEVENT:TRUE
SUMMARY:Bus Trip to Historic Bethlehem PA
DESCRIPTION:If you love history and are proud of the amazing history in Pennsylvania\, the Pennsylvania Heritage Foundation and Historic Harrisburg Association invite you to join us to visit the 3rd and most recent UNESCO World Heritage Site awarded to Pennsylvania: Moravian Church Settlements in Historic Bethlehem.
X-ALT-DESC;FMTTYPE=text/html:<!DOCTYPE html><html><head><title></title></head><body aria-disabled="false"><p><strong fr-original-style="" style="font-weight: 700\;">If you love history and are proud of the amazing history in Pennsylvania\,</strong> the Pennsylvania Heritage Foundation and Historic Harrisburg Association invite you to join us to visit the 3rd and most recent UNESCO World Heritage Site awarded to Pennsylvania: Moravian Church Settlements in Historic Bethlehem.</p></body></html>
LOCATION:
UID:e.3328.1424977
SEQUENCE:3
DTSTAMP:20260425T121256Z
URL:https://harrisburgregionalchambercredcpa.growthzoneapp.com/chambereventscalendar/Details/bus-trip-to-historic-bethlehem-pa-1685023?sourceTypeId=Hub
END:VEVENT
END:VCALENDAR
