BEGIN:VCALENDAR
VERSION:2.0
PRODID:-//ChamberMaster//Event Calendar 2.0//EN
METHOD:PUBLISH
X-PUBLISHED-TTL:P1H
REFRESH-INTERVAL:P1H
CALSCALE:GREGORIAN
BEGIN:VTIMEZONE
TZID:America/New_York
BEGIN:DAYLIGHT
RRULE:FREQ=YEARLY;BYMONTH=3;BYDAY=2SU
DTSTART:20070101T000000
TZOFFSETFROM:-0500
TZOFFSETTO:-0400
TZNAME:Eastern Daylight Time
END:DAYLIGHT
BEGIN:STANDARD
RRULE:FREQ=YEARLY;BYMONTH=11;BYDAY=1SU
DTSTART:20070101T000000
TZOFFSETFROM:-0400
TZOFFSETTO:-0500
TZNAME:Eastern Standard Time
END:STANDARD
END:VTIMEZONE
BEGIN:VEVENT
DTSTART;TZID=America/New_York:20260624T173000
DTEND;TZID=America/New_York:20260624T193000
X-MICROSOFT-CDO-ALLDAYEVENT:FALSE
SUMMARY:AI Meet Up & Exchange
DESCRIPTION:What is the goal of the AI Meet Up?Our mission is simple: we want to bring together our community to broker meaningful conversations that help you navigate AI in your business and career.  The meet up features a speaker to educate and initiate conversation and connections.June's AI Meet Up: When AI Starts Acting: Governing What AI Systems Are Allowed to Do Session Presenter: Diane R. Jones AI is rapidly evolving from tools that generate outputs to systems where models propose actions and agents attempt to carry them out through tools\, APIs\, and workflows. As this shift happens\, effective governance must move beyond model behavior to the systems that determine what AI-driven actions are actually allowed to execute. This talk explores system-level controls that constrain agent behavior inside enterprise environments. The session will look at emerging governance patterns and practical questions security\, engineering\, and GRC teams should be asking as AI systems begin interacting with operational infrastructure. Topics   Governance boundaries across models\, agents\, and enterprise systems   How enterprise systems enforce execution authority over AI agents   Architectural controls such as authority limits\, tool permissions\, and runtime policy enforcement   What security and GRC teams should verify before allowing AI agents to interact with operational systems
X-ALT-DESC;FMTTYPE=text/html:<!DOCTYPE html><html><head><title></title></head><body aria-disabled="false"><p style="box-sizing: border-box\; margin: 0px 0px 1rem\; line-height: 1.5\; color: rgb(44\, 44\, 44)\; font-family: Arial\; font-size: 14px\; font-style: normal\; font-variant-ligatures: normal\; font-variant-caps: normal\; font-weight: 400\; letter-spacing: normal\; orphans: 2\; text-indent: 0px\; text-transform: none\; widows: 2\; word-spacing: 0px\; -webkit-text-stroke-width: 0px\; white-space: normal\; background-color: rgb(255\, 255\, 255)\; text-decoration-thickness: initial\; text-decoration-style: initial\; text-decoration-color: initial\; padding: 5px 0px\; text-align: start\;"><span style="box-sizing: border-box\; font-size: 14px\;"><span style="box-sizing: border-box\;"><span style="box-sizing: border-box\; color: rgb(58\, 58\, 58)\;"><span style='box-sizing: border-box\; font-family: "Open Sans"\, Helvetica\, Arial\, sans-serif\;'><span style="box-sizing: border-box\; font-style: normal\;"><span style="box-sizing: border-box\; font-variant-ligatures: normal\;"><span style="box-sizing: border-box\; font-weight: 400\;"><span style="box-sizing: border-box\; white-space: normal\;"><span style="box-sizing: border-box\; background-color: rgb(255\, 255\, 255)\;"><span style="box-sizing: border-box\; text-decoration-thickness: initial\;"><span style="box-sizing: border-box\; text-decoration-style: initial\;"><span style="box-sizing: border-box\; text-decoration-color: initial\;"><strong fr-original-style="box-sizing: border-box\; font-weight: 700\; padding: 0px\;" style="box-sizing: border-box\; font-weight: 700\; padding: 0px\;">What is the goal of the AI Meet Up?</strong></span></span></span></span></span></span></span></span></span></span></span></span></p><p style="box-sizing: border-box\; margin: 0px 0px 1rem\; line-height: 1.5\; color: rgb(44\, 44\, 44)\; font-family: Arial\; font-size: 14px\; font-style: normal\; font-variant-ligatures: normal\; font-variant-caps: normal\; font-weight: 400\; letter-spacing: normal\; orphans: 2\; text-indent: 0px\; text-transform: none\; widows: 2\; word-spacing: 0px\; -webkit-text-stroke-width: 0px\; white-space: normal\; background-color: rgb(255\, 255\, 255)\; text-decoration-thickness: initial\; text-decoration-style: initial\; text-decoration-color: initial\; padding: 5px 0px\; text-align: start\;"><span style="box-sizing: border-box\; font-size: 14px\;"><span style="box-sizing: border-box\;"><span style="box-sizing: border-box\; color: rgb(58\, 58\, 58)\;"><span style='box-sizing: border-box\; font-family: "Open Sans"\, Helvetica\, Arial\, sans-serif\;'><span style="box-sizing: border-box\; font-style: normal\;"><span style="box-sizing: border-box\; font-variant-ligatures: normal\;"><span style="box-sizing: border-box\; font-weight: 400\;"><span style="box-sizing: border-box\; white-space: normal\;"><span style="box-sizing: border-box\; background-color: rgb(255\, 255\, 255)\;"><span style="box-sizing: border-box\; text-decoration-thickness: initial\;"><span style="box-sizing: border-box\; text-decoration-style: initial\;"><span style="box-sizing: border-box\; text-decoration-color: initial\;">Our mission is simple: we want to bring together our community to broker meaningful conversations that help you navigate AI in your business and career. &nbsp\;The meet up features a speaker to educate and initiate conversation and connections.</span></span></span></span></span></span></span></span></span></span></span></span></p><p><span style="color: rgb(41\, 105\, 176)\; font-family: Arial\; font-size: medium\; font-style: normal\; font-variant-ligatures: normal\; font-variant-caps: normal\; font-weight: 400\; letter-spacing: normal\; orphans: 2\; text-align: start\; text-indent: 0px\; text-transform: none\; widows: 2\; word-spacing: 0px\; -webkit-text-stroke-width: 0px\; white-space: normal\; text-decoration-thickness: initial\; text-decoration-style: initial\; text-decoration-color: initial\; float: none\; display: inline !important\;"><strong fr-original-style=""><u>June&#39\;s AI Meet Up: When AI Starts Acting: Governing What AI Systems Are Allowed to Do Session</u></strong></span><span style="color: rgb(41\, 105\, 176)\;"><u><strong fr-original-style="">&nbsp\;</strong></u></span></p><p><strong fr-original-style="">Presenter: Diane R. Jones&nbsp\;</strong></p><p>AI is rapidly evolving from tools that generate outputs to systems where models propose actions and agents attempt to carry them out through tools\, APIs\, and workflows. As this shift happens\, effective governance must move beyond model behavior to the systems that determine what AI-driven actions are actually allowed to execute.&nbsp\;</p><p>This talk explores system-level controls that constrain agent behavior inside enterprise environments. The session will look at emerging governance patterns and practical questions security\, engineering\, and GRC teams should be asking as AI systems begin interacting with operational infrastructure.&nbsp\;</p><p><strong fr-original-style="">Topics&nbsp\;</strong></p><p>&bull\; Governance boundaries across models\, agents\, and enterprise systems&nbsp\;</p><p>&bull\; How enterprise systems enforce execution authority over AI agents&nbsp\;</p><p>&bull\; Architectural controls such as authority limits\, tool permissions\, and runtime policy enforcement&nbsp\;</p><p>&bull\; What security and GRC teams should verify before allowing AI agents to interact with operational systems</p></body></html>
LOCATION:4925 Ritter Rd\, Mechanicsburg\, PA 17055 Mechanicsburg PA 17055
UID:e.3328.1449127
SEQUENCE:3
DTSTAMP:20260425T121258Z
URL:https://harrisburgregionalchambercredcpa.growthzoneapp.com/chambereventscalendar/Details/ai-meet-up-exchange-1716478?sourceTypeId=Hub
END:VEVENT
END:VCALENDAR
