BEGIN:VCALENDAR
VERSION:2.0
PRODID:-//ChamberMaster//Event Calendar 2.0//EN
METHOD:PUBLISH
X-PUBLISHED-TTL:P1H
REFRESH-INTERVAL:P1H
CALSCALE:GREGORIAN
BEGIN:VTIMEZONE
TZID:America/New_York
BEGIN:DAYLIGHT
RRULE:FREQ=YEARLY;BYMONTH=3;BYDAY=2SU
DTSTART:20070101T000000
TZOFFSETFROM:-0500
TZOFFSETTO:-0400
TZNAME:Eastern Daylight Time
END:DAYLIGHT
BEGIN:STANDARD
RRULE:FREQ=YEARLY;BYMONTH=11;BYDAY=1SU
DTSTART:20070101T000000
TZOFFSETFROM:-0400
TZOFFSETTO:-0500
TZNAME:Eastern Standard Time
END:STANDARD
END:VTIMEZONE
BEGIN:VEVENT
DTSTART;TZID=America/New_York:20260429T173000
DTEND;TZID=America/New_York:20260429T193000
X-MICROSOFT-CDO-ALLDAYEVENT:FALSE
SUMMARY:AI Meet Up & Exchange
DESCRIPTION:What is the goal of the AI Meet Up? \nOur mission is simple: we want to bring together our community to broker meaningful conversations that help you navigate AI in your business and career. The meet up features a speaker to educate and initiate conversation and connections. \nApril's Meet Up - Business Process Mapping Most AI projects don't fail because of the technology. They fail because the work underneath it was never clearly defined. AI can only automate what is already understood. When organizations skip the process mapping step\, they're not accelerating their business - they're accelerating their problems. \nIn this session\, we'll talk about why a solid process map is the real foundation of AI readiness. We'll look at how to identify where your workflows actually break down - the decision points\, the data handoffs\, the spots where things depend on one person knowing something nobody else does - and how to address those before you ever introduce automation. \nWhat you'll walk away with: a practical way to assess whether a process is actually ready for AI\, and a clearer picture of where to start. \nIf you're planning any kind of AI adoption and want to do it right\, this one's worth your time.
X-ALT-DESC;FMTTYPE=text/html:<!DOCTYPE html><html><head><title></title></head><body aria-disabled="false"><p><strong fr-original-style="" style="font-weight: 700\;">What is the goal of the AI Meet Up?&nbsp\;</strong></p><p><br></p><p>Our mission is simple: we want to bring together our community to broker meaningful conversations that help you navigate AI in your business and career. The meet up features a speaker to educate and initiate conversation and connections.&nbsp\;</p><p><br></p><p><strong fr-original-style="" style="font-weight: 700\;"><span style="color: rgb(41\, 105\, 176)\;">April&#39\;s Meet Up - Business Process Mapping&nbsp\;</span></strong></p><p>Most AI projects don&#39\;t fail because of the technology. They fail because the work underneath it was never clearly defined. AI can only automate what is already understood. When organizations skip the process mapping step\, they&#39\;re not accelerating their business - they&#39\;re accelerating their problems.&nbsp\;</p><p><br></p><p>In this session\, we&#39\;ll talk about why a solid process map is the real foundation of AI readiness. We&#39\;ll look at how to identify where your workflows actually break down - the decision points\, the data handoffs\, the spots where things depend on one person knowing something nobody else does - and how to address those before you ever introduce automation.&nbsp\;</p><p><br></p><p>What you&#39\;ll walk away with: a practical way to assess whether a process is actually ready for AI\, and a clearer picture of where to start.&nbsp\;</p><p><br></p><p>If you&#39\;re planning any kind of AI adoption and want to do it right\, this one&#39\;s worth your time.</p></body></html>
LOCATION:4925 Ritter Rd\, Mechanicsburg\, PA 17055 Mechanicsburg PA 17055
UID:e.3328.1449108
SEQUENCE:3
DTSTAMP:20260425T121258Z
URL:https://harrisburgregionalchambercredcpa.growthzoneapp.com/chambereventscalendar/Details/ai-meet-up-exchange-1716411?sourceTypeId=Hub
END:VEVENT
END:VCALENDAR
